BEGIN:VCALENDAR
VERSION:2.0
PRODID:-//San Diego 48 Hour Film Project//EN
CALSCALE:GREGORIAN
METHOD:PUBLISH
BEGIN:VEVENT
UID:2026-05-11-the-48-and-beyond-20260512T003000Z@sandiego48.com
DTSTAMP:20260425T001023Z
DTSTART:20260512T003000Z
DTEND:20260512T033000Z
SUMMARY:The 48 and Beyond with SD Media Pros
DESCRIPTION:Join SD Media Pros for an evening with Raven and Kilna as we deconstruct the 48 Hour Film Project experience and share how high-pressure production skills can strengthen your creative team and your career.\n\nMore details: https://sandiego48.com/events/2026-05-11-the-48-and-beyond/
LOCATION:Elijah's Restaurant\, 7061 Clairemont Mesa Blvd\, San Diego\, CA 92111
URL:https://sandiego48.com/events/2026-05-11-the-48-and-beyond/
END:VEVENT
END:VCALENDAR
